Workbook

Sheet Spazzamento e Verde pubblico
C2: Conto Economico suddiviso per centri di costo analitici: Spazzamento e Verde Pubblico
C3: SALERNO PULITA SPA
C4: ANNO 2025
C5: Centro 1001-1002-1003-1004 (Spazzamento) | D5: Centro 1005 Centro Agroal. | E5: Centro 1006 (Cimitero) | F5: TOTALE SPAZZAMENTO | G5: TOTALE VERDE PUBBLICO
A7: A) Valore della produzione
A8: 1) Ricavi delle vendite e delle prestazioni | C8: =6752241+67782 -> 6820023 | D8: 324091.92 | E8: 550706.64 | F8: =SUM(C8:E8) -> 7694821.6 | G8: 1907092
A9: 5) Altri ricavi e proventi: | F9: =SUM(C9:E9) -> 0
B10: - vari | C10: =178183/2 -> 89091.5 | F10: =SUM(C10:E10) -> 89091.5
A11: Totale valore della produzione | C11: =SUM(C8:C10) -> 6909114.5 | D11: =SUM(D8:D10) -> 324091.92 | E11: =SUM(E8:E10) -> 550706.64 | F11: =SUM(C11:E11) -> 7783913.1 | G11: =SUM(G8:G10) -> 1907092
A12: B) Costi della produzione
A13: 6) Per materie prime, sussidiarie, di consumo e di merci | C13: =444727-4821 -> 439906 | D13: 1880 | E13: 9932 | F13: =SUM(C13:E13) -> 451718 | G13: 39790
A14: 7) Per servizi
B15: a) Lavori affidati a terzi | F15: =SUM(C15:E15) -> 0
B16: b) Manutenzione e riparazione macchine, impianti, automezzi etc. | C16: 282644 | D16: 5489 | E16: 8586 | F16: =SUM(C16:E16) -> 296719 | G16: 23634
B17: c) Consulenze e incarichi affidati a professionisti | C17: 63399 | D17: 3050 | E17: 5163 | F17: =SUM(C17:E17) -> 71612 | G17: 33502
B18: d) Attività promozionali | F18: =SUM(C18:E18) -> 0
B19: e) Formazione | F19: =SUM(C19:E19) -> 0
B20: f) Spese per trasferte | F20: =SUM(C20:E20) -> 0
B21: g) Spese per automezzi (assicurazioni ) | C21: 212750 | D21: 0 | E21: 4093 | F21: =SUM(C21:E21) -> 216843
B22: h) Altri | C22: =472446-1638 -> 470808 | D22: 6938 | E22: 11747 | F22: =SUM(C22:E22) -> 489493 | G22: 340320
A23: 8) Per godimento di beni di terzi | C23: 694382 | D23: 997 | E23: 1688 | F23: =SUM(C23:E23) -> 697067 | G23: 291130
A24: 9) Per il personale
B25: a) Salari e stipendi | C25: 4136971 | D25: 178705 | E25: 321234 | F25: =SUM(C25:E25) -> 4636910 | G25: 774151
B26: b) Oneri sociali | C26: 1402231 | D26: 60904 | E26: 110005 | F26: =SUM(C26:E26) -> 1573140 | G26: 180469
B27: c) Trattamento di fine rapporto | C27: 251741 | D27: 11079 | E27: 19800 | F27: =SUM(C27:E27) -> 282620 | G27: 46427
B28: d) Trattamento di quiescenza e simili | F28: =SUM(C28:E28) -> 0
B29: e) Altri costi | C29: =216322+213651-49759-35000 -> 345214 | D29: 6791 | E29: 12193 | F29: =SUM(C29:E29) -> 364198 | G29: 27600
A31: 10) Ammortamenti e svalutazioni | F31: =SUM(C31:E31) -> 0
B32: a) Ammortamento delle immobilizzazioni immateriali | F32: =SUM(C32:E32) -> 0
B33: b) Ammortamento delle immobilizzazioni materiali | C33: 127816 | D33: 860 | E33: 1457 | F33: =SUM(C33:E33) -> 130133 | G33: 17160
B34: c) Altre svalutazioni delle immobilizzazioni | F34: =SUM(C34:E34) -> 0
B35: d) Svalutazioni dei crediti compresi nell'attivo circolante e delle disponibilità liquide | F35: =SUM(C35:E35) -> 0
A36: 11) Variazioni delle rimanenze di materie prime, sussidiarie, di consumo e merci | F36: =SUM(C36:E36) -> 0
A37: 12) Accantonamento per rischi | F37: =SUM(C37:E37) -> 0
A38: 13) Altri accantonamenti | F38: =SUM(C38:E38) -> 0
A39: 14) Oneri diversi di gestione | C39: 37651 | D39: 1811 | E39: 3066 | F39: =SUM(C39:E39) -> 42528 | G39: 10628
A40: Totale costi della produzione | C40: =SUM(C13:C39) -> 8465513 | D40: =SUM(D13:D39) -> 278504 | E40: =SUM(E13:E39) -> 508964 | F40: =SUM(F13:F39) -> 9252981 | G40: =SUM(G13:G39) -> 1784811
A41: Differenza tra valore e costi di produzione (A-B) | C41: =C11-C40 -> -1556398.5 | D41: =D11-D40 -> 45587.92 | E41: =E11-E40 -> 41742.64 | F41: =F11-F40 -> -1469067.9 | G41: =G11-G40 -> 122281
A42: C) Proventi e oneri finanziari
A43: 15) Proventi da partecipazioni: | C43: 0 | F43: 0
...

Sheet Racconta differenz. e Impianti
C2: Conto Economico suddiviso per centri di costo analitici: Settore Raccolta Differenziata e Impianti
C3: SALERNO PULITA SPA
C4: ANNO 2025
C5: Centro 1007 Racc. Diff. | D5: Centro 1008 Imp. Compostaggio | E5: Centro 1009 Ostaglio | F5: Centro 1012 Ingombranti | G5: Centro 1013-1014 Isole Ecologiche | H5: TOTALE
A7: A) Valore della produzione
A8: 1) Ricavi delle vendite e delle prestazioni | C8: 12874945 | D8: =2181145+43185 -> 2224330 | E8: =874642+15726 -> 890368 | F8: 282624.96 | G8: 854327.04 | H8: =C8+D8+E8+F8+G8 -> 17126595
A9: 5) Altri ricavi e proventi: | H9: =SUM(C9:G9) -> 0
B10: - vari | C10: =62203+21450+36137+1191+513500+12031+108413+635077 -> 1390002 | D10: =178183/2 -> 89091.5 | E10: 0 | G10: 0 | H10: =C10+D10+E10+F10+G10 -> 1479093.5
A11: Totale valore della produzione | C11: =SUM(C8:C10) -> 14264947 | D11: =SUM(D8:D10) -> 2313421.5 | E11: =SUM(E8:E10) -> 890368 | F11: =SUM(F8:F10) -> 282624.96 | G11: =SUM(G8:G10) -> 854327.04 | H11: =SUM(H8:H10) -> 18605688
A12: B) Costi della produzione
A13: 6) Per materie prime, sussidiarie, di consumo e di merci | C13: 946992 | D13: 9519 | E13: 4687 | F13: 10186 | G13: 4119 | H13: =SUM(C13:G13) -> 975503
A14: 7) Per servizi | H14: 0
B15: a) Lavori affidati a terzi | H15: =SUM(C15:G15) -> 0
B16: b) Manutenzione e riparazione macchine, impianti, automezzi etc. | C16: 641489 | D16: 103646 | E16: 50894 | F16: 12183 | G16: 22181 | H16: =SUM(C16:G16) -> 830393
B17: c) Consulenze e incarichi affidati a professionisti | C17: 125713 | D17: 20464 | E17: 8212 | F17: 2648 | G17: 8025 | H17: =SUM(C17:G17) -> 165062
B18: d) Attività promozionali | H18: =SUM(C18:G18) -> 0
B19: e) Formazione | H19: =SUM(C19:G19) -> 0
B20: f) Spese per trasferte | H20: =SUM(C20:G20) -> 0
B21: g) Spese per automezzi (assicurazione) | C21: 501585 | F21: 15549 | H21: =SUM(C21:G21) -> 517134
B22: h) Altri | C22: 1028212 | D22: 2093421 | E22: 196320 | F22: 6025 | G22: 24128 | H22: =SUM(C22:G22) -> 3348106
A23: 8) Per godimento di beni di terzi | C23: =380294+5628 -> 385922 | D23: 95425 | E23: 52031 | F23: 866 | G23: 2624 | H23: =SUM(C23:G23) -> 536868
A24: 9) Per il personale
B25: a) Salari e stipendi | C25: 6297192 | D25: 411697 | E25: 250503 | F25: 120673 | G25: 598250 | H25: =SUM(C25:G25) -> 7678315
B26: b) Oneri sociali | C26: 2177790 | D26: 155952 | E26: 84860 | F26: 40349 | G26: 194966 | H26: =SUM(C26:G26) -> 2653917
B27: c) Trattamento di fine rapporto | C27: 372633 | D27: 25661 | E27: 15910 | F27: 7448 | G27: 38895 | H27: =SUM(C27:G27) -> 460547
B28: d) Trattamento di quiescenza e simili | H28: =SUM(C28:G28) -> 0
B29: e) Altri costi | C29: =290604+320477+10000-128-29824 -> 591129 | D29: 15847 | E29: 7046 | F29: 4153 | G29: 14952 | H29: =SUM(C29:G29) -> 633127
A31: 10) Ammortamenti e svalutazioni | H31: =SUM(C31:G31) -> 0
B32: a) Ammortamento delle immobilizzazioni immateriali | C32: 1083 | D32: 35734 | E32: =28048+319 -> 28367 | G32: 17505 | H32: =SUM(C32:G32) -> 82689
B33: b) Ammortamento delle immobilizzazioni materiali | C33: =313660+1372 -> 315032 | D33: 346499 | E33: 8574 | F33: 747 | G33: 17727 | H33: =SUM(C33:G33) -> 688579
B34: c) Altre svalutazioni delle immobilizzazioni | H34: =SUM(C34:G34) -> 0
B35: d) Svalutazioni dei crediti compresi nell'attivo circolante e delle disponibilità liquide | H35: =SUM(C35:G35) -> 0
A36: 11) Variazioni delle rimanenze di materie prime, sussidiarie,di consumo e merci | H36: =SUM(C36:G36) -> 0
A37: 12) Accantonamento per rischi | H37: =SUM(C37:G37) -> 0
A38: 13) Altri accantonamenti | H38: =SUM(C38:G38) -> 0
A39: 14) Oneri diversi di gestione | C39: =71806+10864 -> 82670 | D39: 12153 | E39: 4877 | F39: 1573 | G39: 4766 | H39: =SUM(C39:G39) -> 106039
A40: Totale costi della produzione | C40: =SUM(C13:C39) -> 13467442 | D40: =SUM(D13:D39) -> 3326018 | E40: =SUM(E13:E39) -> 712281 | F40: =SUM(F13:F39) -> 222400 | G40: =SUM(G13:G39) -> 948138 | H40: =SUM(C40:G40) -> 18676279
A41: Differenza tra valore e costi di produzione (A-B) | C41: =C11-C40 -> 797505 | D41: =D11-D40 -> -1012596.5 | E41: =E11-E40 -> 178087 | F41: =F11-F40 -> 60224.96 | G41: =G11-G40 -> -93810.96 | H41: =H11-H40 -> -70590.5
A42: C) Proventi e oneri finanziari | H42: =SUM(C42:G42) -> 0
A43: 15) Proventi da partecipazioni: | H43: 0
...

Sheet Settore Pulizia
C2: Conto Economico suddiviso per centri di costo analitici: Settore Pulizia
C3: SALERNO PULITA SPA
C4: ANNO 2025
C5: Centro 2001 - 2009 Pulizie Comunali e Traslochi | D5: Centro 2003 Pulizia Bagni | E5: Centro 2004 Stadio Arechi | F5: Centro 2005 Asili nido | G5: Centro 2007 Teatri Comunale | H5: Centro 2008 Stadio Vestuti e palestre | I5: TOTALE | J5: Vs Budget 2019
A7: A) Valore della produzione
A8: 1) Ricavi delle vendite e delle prestazioni | C8: =820102+27154+9214 -> 856470 | D8: 463576 | E8: 203194 | F8: 33824 | G8: 246745 | H8: 134124 | I8: =SUM(C8:H8) -> 1937933 | J8: 1745492.4
A9: 5) Altri ricavi e proventi: | I9: 0
B10: - vari | C10: 0 | I10: =SUM(C10:H10) -> 0
A11: Totale valore della produzione | C11: =SUM(C8:C10) -> 856470 | D11: =SUM(D8:D10) -> 463576 | E11: =SUM(E8:E10) -> 203194 | F11: =SUM(F8:F10) -> 33824 | G11: =SUM(G8:G10) -> 246745 | H11: =SUM(H8:H10) -> 134124 | I11: =SUM(I8:I10) -> 1937933 | J11: =J10+J8 -> 1745492.4
A12: B) Costi della produzione
A13: 6) Per materie prime, sussidiarie, di consumo e di merci | C13: 18638 | D13: 14208 | E13: 1837 | F13: 850 | G13: 1656 | H13: 876 | I13: =SUM(C13:H13) -> 38065 | J13: 51468.75
A14: 7) Per servizi | I14: =SUM(C14:H14) -> 0
B15: a) Lavori affidati a terzi | I15: =SUM(C15:H15) -> 0
B16: b) Manutenzione e riparazione macchine, impianti, automezzi etc. | C16: 2626 | D16: 37940 | E16: 401 | F16: 68 | G16: 491 | H16: 265 | I16: =SUM(C16:H16) -> 41791 | J16: 2036.67
B17: c) Consulenze e incarichi affidati a professionisti | C17: 7570 | D17: 4360 | E17: 1899 | F17: 321 | G17: 2327 | H17: 1257 | I17: =SUM(C17:H17) -> 17734 | J17: 16752.5
B18: d) Attività promozionali | I18: =SUM(C18:H18) -> 0
B19: e) Formazione | I19: =SUM(C19:H19) -> 0
B20: f) Spese per trasferte | I20: =SUM(C20:H20) -> 0
B21: g) Spese per automezzi (assicurazione ) | C21: 1094 | D21: 5810 | E21: 0 | I21: =SUM(C21:H21) -> 6904 | J21: 1666
B22: h) Altri | C22: 51558 | D22: 11156 | E22: 4321 | F22: 730 | G22: 38095 | H22: 19841 | I22: =SUM(C22:H22) -> 125701 | J22: 13510
A23: 8) Per godimento di beni di terzi | C23: 6435 | D23: 1426 | E23: 621 | F23: 105 | G23: 761 | H23: 411 | I23: =SUM(C23:H23) -> 9759 | J23: 3402.92
A24: 9) Per il personale | I24: =SUM(C24:H24) -> 0
B25: a) Salari e stipendi | C25: 621229 | D25: 180023 | E25: 92350 | F25: 51468 | G25: 58807 | H25: 57235 | I25: =SUM(C25:H25) -> 1061112 | J25: 1195450.2
B26: b) Oneri sociali | C26: 215172 | D26: 58539 | E26: 30174 | F26: 16648 | G26: 19192 | H26: 18444 | I26: =SUM(C26:H26) -> 358169 | J26: 390613.19
B27: c) Trattamento di fine rapporto | C27: 36871 | D27: 11163 | E27: 5568 | F27: 3123 | G27: 3517 | H27: 3526 | I27: =SUM(C27:H27) -> 63768 | J27: 78667.41
B28: d) Trattamento di quiescenza e simili | I28: =SUM(C28:H28) -> 0
B29: e) Altri costi | C29: 20018 | D29: 3910 | E29: 2631 | F29: 1713 | G29: =1939+9759+40000-125 -> 51573 | H29: 2557 | I29: =SUM(C29:H29) -> 82402 | J29: 8677.08
A31: 10) Ammortamenti e svalutazioni | I31: =SUM(C31:H31) -> 0
B32: a) Ammortamento delle immobilizzazioni immateriali | I32: =SUM(C32:H32) -> 0 | J32: 1264.74
B33: b) Ammortamento delle immobilizzazioni materiali | C33: 9548 | D33: 1230 | E33: 536 | F33: 91 | G33: 657 | H33: 355 | I33: =SUM(C33:H33) -> 12417 | J33: 7193.51
B34: c) Altre svalutazioni delle immobilizzazioni | I34: =SUM(C34:H34) -> 0
B35: d) Svalutazioni dei crediti compresi nell'attivo circolante e delle disponibilità liquide | I35: =SUM(C35:H35) -> 0
A36: 11) Variazioni delle rimanenze di materie prime, sussidiarie, di consumo e merci | I36: =SUM(C36:H36) -> 0
A37: 12) Accantonamento per rischi | I37: =SUM(C37:H37) -> 0
A38: 13) Altri accantonamenti | I38: =SUM(C38:H38) -> 0
A39: 14) Oneri diversi di gestione | C39: 4495 | D39: 2589 | E39: 1128 | F39: 191 | G39: 1382 | H39: 747 | I39: =SUM(C39:H39) -> 10532 | J39: 20577.08
A40: Totale costi della produzione | C40: =SUM(C13:C39) -> 995254 | D40: =SUM(D13:D39) -> 332354 | E40: =SUM(E13:E39) -> 141466 | F40: =SUM(F13:F39) -> 75308 | G40: =SUM(G13:G39) -> 178458 | H40: =SUM(H13:H39) -> 105514 | I40: =SUM(I13:I39) -> 1828354 | J40: =SUM(J13:J39) -> 1791280.1
A41: Differenza tra valore e costi di produzione (A-B) | C41: =C11-C40 -> -138784 | D41: =D11-D40 -> 131222 | E41: =E11-E40 -> 61728 | F41: =F11-F40 -> -41484 | G41: =G11-G40 -> 68287 | H41: =H11-H40 -> 28610 | I41: =I11-I40 -> 109579 | J41: =J11-J40 -> -45787.68
A42: C) Proventi e oneri finanziari
A43: 15) Proventi da partecipazioni: | I43: =SUM(C43:H43) -> 0
...

Sheet Riepilogo Conto Economico
D2: SALERNO PULITA SPA
D4: CONTO ECONOMICO 2025
B6: A) Valore della produzione
B7: 1) Ricavi delle vendite e delle prestazioni | D7: ='Spazzamento e Verde pubblico'!F8+'Spazzamento e Verde pubblico'!G8+'Racconta differenz. e Impianti'!H8+'Settore Pulizia'!I8 -> 28666442
B8: 4) Ricavi per Lavori in economia
B9: 2) Variazione delle rimanenze di prodotti in lavorazione, semilavorati e finiti
B10: 5) Altri ricavi e proventi: | D10: ='Spazzamento e Verde pubblico'!F10+'Spazzamento e Verde pubblico'!G10+'Racconta differenz. e Impianti'!H10+'Settore Pulizia'!I10 -> 1568185
A11: * | B11: 5) Altri ricavi e proventi: straordinari NON IMPUTATI A CENTRO DI COSTI | D11: =3087227-D10+3+3538 -> 1522583
B12: Totale valore della produzione | D12: =SUM(D7:D11) -> 31757210
B13: B) Costi della produzione
B14: 6) Per materie prime, sussidiarie, di consumo e di merci | D14: ='Spazzamento e Verde pubblico'!F13+'Spazzamento e Verde pubblico'!G13+'Racconta differenz. e Impianti'!H13+'Settore Pulizia'!I13 -> 1505076
B15: 7) Per servizi
C16: a) Lavori affidati a terzi
C17: b) Manutenzione e riparazione macchine, impianti, automezzi etc. | D17: ='Spazzamento e Verde pubblico'!F16+'Spazzamento e Verde pubblico'!G16+'Racconta differenz. e Impianti'!H16+'Settore Pulizia'!I16 -> 1192537
C18: c) Consulenze e incarichi affidati a professionisti | D18: ='Spazzamento e Verde pubblico'!F17+'Spazzamento e Verde pubblico'!G17+'Racconta differenz. e Impianti'!H17+'Settore Pulizia'!I17 -> 287910
C19: d) Attività promozionali
C20: e) Formazione
C21: f) Spese per trasferte
C22: g) Spese per automezzi(assicurazioni ecc.) | D22: ='Spazzamento e Verde pubblico'!F21+'Spazzamento e Verde pubblico'!G21+'Racconta differenz. e Impianti'!H21+'Settore Pulizia'!I21 -> 740881
C23: h) Altri | D23: ='Spazzamento e Verde pubblico'!F22+'Spazzamento e Verde pubblico'!G22+'Racconta differenz. e Impianti'!H22+'Settore Pulizia'!I22 -> 4303620
B24: 8) Per godimento di beni di terzi | D24: ='Spazzamento e Verde pubblico'!F23+'Spazzamento e Verde pubblico'!G23+'Racconta differenz. e Impianti'!H23+'Settore Pulizia'!I23 -> 1534824
B25: 9) Per il personale
C26: a) Salari e stipendi | D26: ='Spazzamento e Verde pubblico'!F25+'Spazzamento e Verde pubblico'!G25+'Racconta differenz. e Impianti'!H25+'Settore Pulizia'!I25 -> 14150488
C27: b) Oneri sociali | D27: ='Spazzamento e Verde pubblico'!F26+'Spazzamento e Verde pubblico'!G26+'Racconta differenz. e Impianti'!H26+'Settore Pulizia'!I26 -> 4765695
C28: c) Trattamento di fine rapporto | D28: ='Spazzamento e Verde pubblico'!F27+'Spazzamento e Verde pubblico'!G27+'Racconta differenz. e Impianti'!H27+'Settore Pulizia'!I27 -> 853362
C29: d) Trattamento di quiescenza e simili | D29: 0
C30: e) Altri costi | D30: ='Spazzamento e Verde pubblico'!F29+'Spazzamento e Verde pubblico'!G29+'Racconta differenz. e Impianti'!H29+'Settore Pulizia'!I29 -> 1107327
C32: Totale | D32: =SUM(D26:D30) -> 20876872
B33: 10) Ammortamenti e svalutazioni
C34: a) Ammortamento delle immobilizzazioni immateriali | D34: ='Spazzamento e Verde pubblico'!F31+'Spazzamento e Verde pubblico'!G31+'Racconta differenz. e Impianti'!H32+'Settore Pulizia'!I32 -> 82689
C35: b) Ammortamento delle immobilizzazioni materiali | D35: ='Spazzamento e Verde pubblico'!F33+'Spazzamento e Verde pubblico'!G33+'Racconta differenz. e Impianti'!H33+'Settore Pulizia'!I33 -> 848289
C36: c) Altre svalutazioni delle immobilizzazioni
C37: d) Sval. dei crediti compresi nell'attivo circ. e delle disponib.liquide
A38: * | B38: 11) Variazioni delle rimanenze di materie prime, sussidiarie, di consumo e merci | D38: 19954
B39: 12) Accantonamento per rischi | D39: ='Racconta differenz. e Impianti'!H37 -> 0
B40: 13) Altri accantonamenti | D40: 0
B41: 14) Oneri diversi di gestione | D41: ='Spazzamento e Verde pubblico'!F39+'Spazzamento e Verde pubblico'!G39+'Racconta differenz. e Impianti'!H39+'Settore Pulizia'!I39 -> 169727
B42: Totale costi della produzione | D42: =D14+D17+D18+D19+D20+D22+D21+D23+D24+D32+D33+D34+D35+D36+D37+D38+D39+D40+D41 -> 31562379
B43: Differenza tra valore e costi di produzione (A-B) | D43: =D12-D42 -> 194830.56
B44: C) Proventi e oneri finanziari
...
